BEGIN:VCALENDAR
VERSION:2.0
PRODID:-//eventon.com NONSGML v1.0//EN
CALSCALE:GREGORIAN
METHOD:PUBLISH
BEGIN:VEVENT
UID:69eaef15d0642
DTSTAMP:20260424T041829Z
DTSTART:20230731T130000Z
DTEND:20230731T143000Z
LOCATION:
SUMMARY:"Kostümspiel macht stark"
DESCRIPTION:15:00 Uhr &#8211; 16:30 Uhr in den Räumlichkeiten des „Hafen
 straße“ e.V. Ein Projekt für Kinder und Jugendlichen zwischen 6 und 17 
 Jahren. Die Teilnahme am Projekt ist für Euch kostenlos!\nhttps://hafenstr
 asse-meissen.de/events/kostuemspiel-macht-stark-2/
URL:https://hafenstrasse-meissen.de/events/kostuemspiel-macht-stark-2/
END:VEVENT
END:VCALENDAR