BEGIN:VCALENDAR
VERSION:2.0
PRODID:-//eventon.com NONSGML v1.0//EN
CALSCALE:GREGORIAN
METHOD:PUBLISH
BEGIN:VEVENT
UID:69e9e71cb59e2
DTSTAMP:20260423T093212Z
DTSTART:20230905T123000Z
DTEND:20230905T163000Z
LOCATION:
SUMMARY:"Mei-Kids" - Interaktives Tanztheater von Kindern für alle! -Teil 1
DESCRIPTION:Ein Projekt für Kinder und Jugendlichen zwischen 10 und 14 Jah
 ren. Die Teilnahme am Projekt ist für Euch kostenlos! Start ist der 22.08.
 2023\,  14:30-18:30 Uhr\,  immer dienstags in den Räumlichkeiten des „Ha
 fenstraße“ e.V. zum Projekt\nhttps://hafenstrasse-meissen.de/events/mei-
 kids-interaktives-tanztheater-von-kindern-fuer-alle-teil-1-3/
URL:https://hafenstrasse-meissen.de/events/mei-kids-interaktives-tanztheater-von-kindern-fuer-alle-teil-1-3/
END:VEVENT
END:VCALENDAR