BEGIN:VCALENDAR
VERSION:2.0
PRODID:-//eventon.com NONSGML v1.0//EN
CALSCALE:GREGORIAN
METHOD:PUBLISH
BEGIN:VEVENT
UID:69e57f3635e88
DTSTAMP:20260420T011950Z
DTSTART:20230627T163000Z
DTEND:20230627T190000Z
LOCATION:
SUMMARY:Probe des Winzerchor  „Spaargebirge“ e.V. Meißen
DESCRIPTION:ab 18:30 Uhr\nhttps://hafenstrasse-meissen.de/events/probe-des-
 winzerchor-spaargebirge-e-v-meissen-2/
URL:https://hafenstrasse-meissen.de/events/probe-des-winzerchor-spaargebirge-e-v-meissen-2/
END:VEVENT
END:VCALENDAR