BEGIN:VCALENDAR
VERSION:2.0
PRODID:-//eventon.com NONSGML v1.0//EN
CALSCALE:GREGORIAN
METHOD:PUBLISH
BEGIN:VEVENT
UID:69e97314a5804
DTSTAMP:20260423T011708Z
DTSTART:20230504T060000Z
DTEND:20230504T105000Z
LOCATION:HAFENSTRAßE e.V. Hafenstraße 28\,  01662 Meißen
SUMMARY:Musikalische Runde
DESCRIPTION:Unter Einhaltung der geltenden Abstandsregelungen. An alle Freu
 nde von handgemachter Musik und Songs. In dieser Runde kann Jeder mit seine
 n Fähigkeiten – ob Anfänger oder Fortgeschrittener – etwas zum Besten
  geben\,  gern auch gemeinsam. Mitzubringen sind persönliches Equipment un
 d Instrumente\,  sowie\,  je nach Laune\,  kleine kulinarische Naschereien 
 für Alle. Eine[..]\nhttps://hafenstrasse-meissen.de/events/musikalische-ru
 nde-copy/
URL:https://hafenstrasse-meissen.de/events/musikalische-runde-copy/
END:VEVENT
END:VCALENDAR