BEGIN:VCALENDAR
VERSION:2.0
PRODID:-//eventon.com NONSGML v1.0//EN
CALSCALE:GREGORIAN
METHOD:PUBLISH
BEGIN:VEVENT
UID:69e96bea0d8a5
DTSTAMP:20260423T004634Z
DTSTART:20230128T143000Z
DTEND:20230128T160000Z
LOCATION:
SUMMARY:TanzAntracktion
DESCRIPTION:präsentiert &#8220;Die kleine Hexe&#8221;\,  das Tanztheater f
 ür die ganze Familie. Von Kindern für Kinder! 28.01.2023 15:00 Uhr Einlas
 s Geschlossene Veranstaltung!\nhttps://hafenstrasse-meissen.de/events/tanza
 ntracktion/
URL:https://hafenstrasse-meissen.de/events/tanzantracktion/
END:VEVENT
END:VCALENDAR