BEGIN:VCALENDAR
VERSION:2.0
PRODID:-//eventon.com NONSGML v1.0//EN
CALSCALE:GREGORIAN
METHOD:PUBLISH
BEGIN:VEVENT
UID:69e96bf550467
DTSTAMP:20260423T004645Z
DTSTART:20220716T170000Z
DTEND:20220716T215000Z
LOCATION:
SUMMARY:SCHOOL´S OUT PARTY
DESCRIPTION:&#8220;Hafenstraße&#8221; e.V. pesent RUM &amp; BASS POSSE SCH
 OOL´S OUT PARTY HipHop\,  DubStep\,  Trap\,  D&amp;B\,  Dutch House\,  Reg
 gae\,  &#8230; Einlass: 18:00 Uhr Beginn: 19:00 Uhr Eintritt: 5 €\nhttps:
 //hafenstrasse-meissen.de/events/schools-out-party/
URL:https://hafenstrasse-meissen.de/events/schools-out-party/
END:VEVENT
END:VCALENDAR