BEGIN:VCALENDAR
VERSION:2.0
PRODID:-//eventon.com NONSGML v1.0//EN
CALSCALE:GREGORIAN
METHOD:PUBLISH
BEGIN:VEVENT
UID:69e55d7b8ea91
DTSTAMP:20260419T225555Z
DTSTART:20220208T150000Z
DTEND:20220208T170000Z
LOCATION:
SUMMARY:Kostbares aus der Natur
DESCRIPTION:Teil 2 Mit Kohldampf durch den Garten Gemeinsam mit dem Verein 
 „Meißner Tafel“ und weiteren Bündnispartnern findet auch in diesem Ja
 hr ein vielseitiges Gartenprojekt statt.&nbsp; Wir möchten mit Kindern ein
 en bunten Garten gestalten. Vom Hochbeet bis zum Kompost\,  vom Blumenmeer 
 bis zur Kräuterschnecke\,  hier sind der Kreativität keine Grenzen gesetz
 t.[..]\nhttps://hafenstrasse-meissen.de/events/kostbares-aus-der-natur-19/
URL:https://hafenstrasse-meissen.de/events/kostbares-aus-der-natur-19/
END:VEVENT
END:VCALENDAR