BEGIN:VCALENDAR
VERSION:2.0
PRODID:-//eventon.com NONSGML v1.0//EN
CALSCALE:GREGORIAN
METHOD:PUBLISH
BEGIN:VEVENT
UID:69e9e6e22fe76
DTSTAMP:20260423T093114Z
DTSTART:20211130T130000Z
DTEND:20211130T170000Z
LOCATION:
SUMMARY:Kostbares aus der Natur
DESCRIPTION:Teil 1 Mit Kohldampf durch den Garten Gemeinsam mit der dem Ver
 ein der Meißner Tafel und weiteren Bündnispartnern soll ein vielseitiges 
 Gartenprojekt entstehen. Wir möchten mit Kindern einen bunten Garten gesta
 lten. Vom Hochbeet bis zum Kompost\,  vom Blumenmeer bis zur Kräuterschnec
 ke\,  hier sind der Kreativität keine Grenzen gesetzt. Pflanzen die[..]\nh
 ttps://hafenstrasse-meissen.de/events/kostbares-aus-der-natur-10/
URL:https://hafenstrasse-meissen.de/events/kostbares-aus-der-natur-10/
END:VEVENT
END:VCALENDAR