BEGIN:VCALENDAR
VERSION:2.0
PRODID:-//eventon.com NONSGML v1.0//EN
CALSCALE:GREGORIAN
METHOD:PUBLISH
BEGIN:VEVENT
UID:69e96bebd04d7
DTSTAMP:20260423T004635Z
DTSTART:20211006T120000Z
DTEND:20211006T160000Z
LOCATION:
SUMMARY:Seniorentreff
DESCRIPTION:Begegnung und Bewegung für&nbsp;alle jung Gebliebenen. Zum neu
 en Seniorentreff in der Hafenstraße sind Sie herzlich eingeladen. Ab 14:00
  Uhr kann nach Herzenslust getanzt und gelacht werden.&nbsp;Ein Stück Kuch
 en und eine Tasse Kaffee sind inklusive.&nbsp; Voranmeldung erforderlich! T
 el: 01522 | 24 07 507 Eintritt: 5\, 00 € Einlass: 14:00 Uhr\nhttps://hafe
 nstrasse-meissen.de/events/seniorentreff-3/
URL:https://hafenstrasse-meissen.de/events/seniorentreff-3/
END:VEVENT
END:VCALENDAR