BEGIN:VCALENDAR
VERSION:2.0
PRODID:-//eventon.com NONSGML v1.0//EN
CALSCALE:GREGORIAN
METHOD:PUBLISH
BEGIN:VEVENT
UID:69e96c0d03376
DTSTAMP:20260423T004709Z
DTSTART:20210911T160000Z
DTEND:20210911T180000Z
LOCATION:Kultur-Kneipe des "Hafenstraße" e.V. Hafenstraße 28\,  01662 Meißen
SUMMARY:Ausstellung "Annelore Römhild"
DESCRIPTION:Titel der Ausstellung: FASZINATION ZWISCHEN HIMMEL UND ERDE&nbs
 p; Frau Annelore Römhild hat bereits als Schülerin in ihrer Freizeit viel
  gezeichnet und wurde von der Schönheit der Natur immer wieder aufs Neue i
 nspiriert. Ihre künstlerischen Neigungen kamen während ihrer beruflichen 
 Entwicklung bis hin zur Floristmeisterin immer wieder zum Tragen. Ob es[..]
 \nhttps://hafenstrasse-meissen.de/events/ausstellungseroeffnung/
URL:https://hafenstrasse-meissen.de/events/ausstellungseroeffnung/
END:VEVENT
END:VCALENDAR