BEGIN:VCALENDAR
VERSION:2.0
PRODID:-//eventon.com NONSGML v1.0//EN
CALSCALE:GREGORIAN
METHOD:PUBLISH
BEGIN:VEVENT
UID:69e9afc37b5b7
DTSTAMP:20260423T053603Z
DTSTART:20191030T140000Z
DTEND:20191030T180000Z
LOCATION:Albrechtsburg Meißen
SUMMARY:Halloween Fest auf der Albrechtsburg
DESCRIPTION:Auch in diesem Jahr ist der „Hafenstrasse“ e.V. wieder mit 
 Kinderschminken und vielen kleinen Überraschungen\,  beim Halloweenfest au
 f der Albrechtsburg vertreten. Eintritt:  Frei\nhttps://hafenstrasse-meiss
 en.de/events/halloween-fest-auf-der-albrechtsburg/
URL:https://hafenstrasse-meissen.de/events/halloween-fest-auf-der-albrechtsburg/
END:VEVENT
END:VCALENDAR