BEGIN:VCALENDAR
VERSION:2.0
PRODID:-//eventon.com NONSGML v1.0//EN
CALSCALE:GREGORIAN
METHOD:PUBLISH
BEGIN:VEVENT
UID:69e9e47cb354e
DTSTAMP:20260423T092100Z
DTSTART:20210810T120000Z
DTEND:20210810T160000Z
LOCATION:SpielplatzgelÃ¤nde â€“ Heiliger Grund
SUMMARY:â€žSpiel Mobilâ€œ
DESCRIPTION:Aufgepasst Kids! â€žSpIeL dIcH ScHlAuâ€œ von Kindern\,  fÃ¼r al
 le!&nbsp; Teil 1&nbsp; Wir\,  das soziokulturelle Zentrum â€žHafenstraÃŸeâ€
 œ e.V.\,  sind wieder mit dem â€žSpiel-Mobilâ€œ unterwegs.Wir laden Euch ei
 n\,  bei â€žSpIeL dIcH ScHlAuâ€œ dabei zu sein.Unser Team zeigt und begleit
 et Euch\,  coole Spiele auszuprobieren.Schon mal â€žVier Gewinntâ€œ in XXL 
 gespielt?TÃ¼rme zum EinstÃ¼rzen gebracht\, [..]\nhttps://hafenstrasse-meiss
 en.de/events/spiel-mobil-11/
URL:https://hafenstrasse-meissen.de/events/spiel-mobil-11/
END:VEVENT
END:VCALENDAR