BEGIN:VCALENDAR
VERSION:2.0
PRODID:-//eventon.com NONSGML v1.0//EN
CALSCALE:GREGORIAN
METHOD:PUBLISH
BEGIN:VEVENT
UID:69e81cdec5c94
DTSTAMP:20260422T005702Z
DTSTART:20210306T190000Z
DTEND:20210306T210000Z
LOCATION:HAFENSTRAßE e.V. Hafenstraße 28\,  01662 Meißen
SUMMARY:„TROjKA“ – live und online
DESCRIPTION:„TROjKA“&nbsp;– bei uns zu Gast – live und online\,  am
  Sa.\,  06.03.2021\,  20:00 Uhr aus dem „Hafenstraße“ e.V. in Meißen 
 Antje KypkeVeranstaltungskoordination\, Autor\,  Text- und BilddesignTel.-N
 r.: 0157- 580 80 483Mail: bildungsforscher@gmail.com\nhttps://hafenstrasse-
 meissen.de/events/trojka-live-und-online/
URL:https://hafenstrasse-meissen.de/events/trojka-live-und-online/
END:VEVENT
END:VCALENDAR