BEGIN:VCALENDAR
VERSION:2.0
PRODID:-//eventon.com NONSGML v1.0//EN
CALSCALE:GREGORIAN
METHOD:PUBLISH
BEGIN:VEVENT
UID:69e9d8d527b07
DTSTAMP:20260423T083117Z
DTSTART:20200814T060000Z
DTEND:20200823T150000Z
LOCATION:HAFENSTRAÃŸE e.V. HafenstraÃŸe 28\,  01662 MeiÃŸen
SUMMARY:Mit dem Fahrrad ins Mittelalter
DESCRIPTION:Vom 14.08.2020 bis zum 23.08.2020 fahren wir auch in diesem Jah
 r wiederÂ mit unseren BÃ¼ndnispartnern\,  Kindern und Jugendlichen â€žMit d
 em Fahrrad ins Mittelalterâ€œ nach Skassa.Es wird wieder eine ganz tolle Ze
 it fÃ¼r uns und alle Teilnehmer! Wir schlafen in richtigen â€žRitterzeltenâ
 €œ\,  stellen mittelalterlichen Schmuck und KostÃ¼me her\,  veranstalten Ro
 llenspiele\,  erkunden die[..]\nhttps://hafenstrasse-meissen.de/events/mit-
 dem-fahrrad-ins-mittelalter/
URL:https://hafenstrasse-meissen.de/events/mit-dem-fahrrad-ins-mittelalter/
END:VEVENT
END:VCALENDAR