BEGIN:VCALENDAR
VERSION:2.0
PRODID:-//eventon.com NONSGML v1.0//EN
CALSCALE:GREGORIAN
METHOD:PUBLISH
BEGIN:VEVENT
UID:69eb1fa8b619e
DTSTAMP:20260424T074544Z
DTSTART:20260530T160000Z
DTEND:20260530T210000Z
LOCATION:
SUMMARY:Lange Nacht der Kunst\,  Kultur und Architektur
DESCRIPTION:Lange Nacht der Kunst\,  Kultur und Architektur\nhttps://hafens
 trasse-meissen.de/events/lange-nacht-der-kunst-kultur-und-architektur-4/
URL:https://hafenstrasse-meissen.de/events/lange-nacht-der-kunst-kultur-und-architektur-4/
END:VEVENT
END:VCALENDAR