BEGIN:VCALENDAR
VERSION:2.0
PRODID:-//eventon.com NONSGML v1.0//EN
CALSCALE:GREGORIAN
METHOD:PUBLISH
BEGIN:VEVENT
UID:69e8a56c87dad
DTSTAMP:20260422T103940Z
DTSTART:20250413T120000Z
DTEND:20250413T160000Z
LOCATION:
SUMMARY:Skat - Turnier
DESCRIPTION:im Saal des &#8220;Hafenstraße&#8221;e.V. Ab dem 12.01.2025\, 
  14:00 Uhr. Jeden zweiten Sonntag im Monat. Gespielt werden 2 Serien zu je 
 48 Spielen. Teilnehmergebühr:12 € Voranmeldungen bitte bis Freitag vor d
 em Turnier unter: 0174 / 7508988 oder in der Kulturkneipe.\nhttps://hafenst
 rasse-meissen.de/events/skat-turnier-4/
URL:https://hafenstrasse-meissen.de/events/skat-turnier-4/
END:VEVENT
END:VCALENDAR