BEGIN:VCALENDAR
VERSION:2.0
PRODID:-//eventon.com NONSGML v1.0//EN
CALSCALE:GREGORIAN
METHOD:PUBLISH
BEGIN:VEVENT
UID:69eb1ae525c87
DTSTAMP:20260424T072525Z
DTSTART:20250122T170000Z
DTEND:20250122T190000Z
LOCATION:
SUMMARY:Line Dance mit den „Crazy Dancing Friends“Linedance
DESCRIPTION:Erleben Sie mit den „Crazy Dancing Friends“ die Leidenschaf
 t des Line Dance!&nbsp; Die Gruppe\,  die seit ihrer Gründung im Jahr 2016
  besteht\,  verbindet Spaß\,  Musik und Tanz. Einige Tänzer sind seit den
  Anfängen dabei\,  während andere neu dazugekommen sind – die Freude am
  Tanzen eint uns alle. Unsere erfahrenen Trainer[..]\nhttps://hafenstrasse-
 meissen.de/events/linedance-3/
URL:https://hafenstrasse-meissen.de/events/linedance-3/
END:VEVENT
END:VCALENDAR