BEGIN:VCALENDAR
VERSION:2.0
PRODID:-//eventon.com NONSGML v1.0//EN
CALSCALE:GREGORIAN
METHOD:PUBLISH
BEGIN:VEVENT
UID:69e94fa6be571
DTSTAMP:20260422T224558Z
DTSTART:20250612T170000Z
DTEND:20250612T200000Z
LOCATION:
SUMMARY:Gitarrenkurs für Fortgeschrittene
DESCRIPTION:Gitarrenkurs für Fortgeschrittene\nhttps://hafenstrasse-meisse
 n.de/events/gitarrenkurs-fuer-fortgeschrittene-60/
URL:https://hafenstrasse-meissen.de/events/gitarrenkurs-fuer-fortgeschrittene-60/
END:VEVENT
END:VCALENDAR