BEGIN:VCALENDAR
VERSION:2.0
PRODID:-//eventon.com NONSGML v1.0//EN
CALSCALE:GREGORIAN
METHOD:PUBLISH
BEGIN:VEVENT
UID:69e82c89b2ebc
DTSTAMP:20260422T020353Z
DTSTART:20250610T150000Z
DTEND:20250610T170000Z
LOCATION:
SUMMARY:Schach macht fit
DESCRIPTION:Schach macht fit. Mit dem Verein Schach macht fit e.V. offen fÃ
 ¼r jeden der Lust hat Schach zu spielen. Einstieg jederzeit mÃ¶glich. Jeden
  Dienstag 17:00 &#8211; 19:00 Uhr\nhttps://hafenstrasse-meissen.de/events/s
 chach-macht-fit-18/
URL:https://hafenstrasse-meissen.de/events/schach-macht-fit-18/
END:VEVENT
END:VCALENDAR