BEGIN:VCALENDAR
VERSION:2.0
PRODID:-//eventon.com NONSGML v1.0//EN
CALSCALE:GREGORIAN
METHOD:PUBLISH
BEGIN:VEVENT
UID:69e595e8a389e
DTSTAMP:20260420T025640Z
DTSTART:20250515T160000Z
DTEND:20250515T215000Z
LOCATION:
SUMMARY:Probe des „blaswerk-meissen“ e.V.
DESCRIPTION:ab 18:00 Uhr\nhttps://hafenstrasse-meissen.de/events/probe-des-
 blaswerk-meissen-e-v-51/
URL:https://hafenstrasse-meissen.de/events/probe-des-blaswerk-meissen-e-v-51/
END:VEVENT
END:VCALENDAR