BEGIN:VCALENDAR
VERSION:2.0
PRODID:-//eventon.com NONSGML v1.0//EN
CALSCALE:GREGORIAN
METHOD:PUBLISH
BEGIN:VEVENT
UID:69ea87533638b
DTSTAMP:20260423T205547Z
DTSTART:20250530T180000Z
DTEND:20250529T230000Z
LOCATION:
SUMMARY:Musikalischer Stammtisch
DESCRIPTION:Musikalischer Stammtisch des „Hafenstraße“e.V. Die offene 
 Bühne für Jung und Alt! Du suchst Gleichgesinnte\,  welche handgemachte L
 ive-Musik lieben?Du möchtest selbst mal vor Publikum stehen\,  eigene Komp
 ositionen darbieten\,  bekannte Songs spielen und singen? Oder hast Lust ei
 nfach mal mit anderen zu jammen? Kein Problem\,  alle sind herzlicheingelad
 en zur Musikalischen Vielfalt auf[..]\nhttps://hafenstrasse-meissen.de/even
 ts/musikalischer-stammtisch-31/
URL:https://hafenstrasse-meissen.de/events/musikalischer-stammtisch-31/
END:VEVENT
END:VCALENDAR