BEGIN:VCALENDAR
VERSION:2.0
PRODID:-//eventon.com NONSGML v1.0//EN
CALSCALE:GREGORIAN
METHOD:PUBLISH
BEGIN:VEVENT
UID:69eb3ea6737d0
DTSTAMP:20260424T095758Z
DTSTART:20250415T163000Z
DTEND:20250415T190000Z
LOCATION:
SUMMARY:Probe - Sächsischer Winzerchor Spaargebirge e.V. Meißen
DESCRIPTION:ab 18:30 Uhr\nhttps://hafenstrasse-meissen.de/events/probe-saec
 hsischer-winzerchor-spaargebirge-e-v-meissen-35/
URL:https://hafenstrasse-meissen.de/events/probe-saechsischer-winzerchor-spaargebirge-e-v-meissen-35/
END:VEVENT
END:VCALENDAR