BEGIN:VCALENDAR
VERSION:2.0
PRODID:-//eventon.com NONSGML v1.0//EN
CALSCALE:GREGORIAN
METHOD:PUBLISH
BEGIN:VEVENT
UID:69eb49d8cd0fa
DTSTAMP:20260424T104544Z
DTSTART:20250212T170000Z
DTEND:20250212T225000Z
LOCATION:
SUMMARY:AWO Meißen Jahreshauptversammlung
DESCRIPTION:Geschlossene Veranstaltung\nhttps://hafenstrasse-meissen.de/eve
 nts/awo-meissen-jahreshauptversammlung-2/
URL:https://hafenstrasse-meissen.de/events/awo-meissen-jahreshauptversammlung-2/
END:VEVENT
END:VCALENDAR