BEGIN:VCALENDAR
VERSION:2.0
PRODID:-//eventon.com NONSGML v1.0//EN
CALSCALE:GREGORIAN
METHOD:PUBLISH
BEGIN:VEVENT
UID:69e87339d2a4c
DTSTAMP:20260422T070529Z
DTSTART:20250301T180000Z
DTEND:20250301T013000Z
LOCATION:
SUMMARY:80s meets future
DESCRIPTION:Die größte Achtziger-Jahre-Party in Meißen ist wieder am Sta
 rt.Ihr seid wieder zum tanzen eingeladen\,  sowie die alten und neuen Hits 
 zu hören und alte Freunde zu treffen. Hinweis: MUTTIZETTEL &#038; JUGENDSC
 HUTZ Zu bestimmten Events gewähren wir den Einlass ab 16 Jahren mit Erzieh
 ungsauftrag. Dafür sind folgende Hinweise zu beachten: Minderjährige[..]\
 nhttps://hafenstrasse-meissen.de/events/80s-meets-future-22/
URL:https://hafenstrasse-meissen.de/events/80s-meets-future-22/
END:VEVENT
END:VCALENDAR