BEGIN:VCALENDAR
VERSION:2.0
PRODID:-//eventon.com NONSGML v1.0//EN
CALSCALE:GREGORIAN
METHOD:PUBLISH
BEGIN:VEVENT
UID:69e9e7388be1d
DTSTAMP:20260423T093240Z
DTSTART:20250116T180000Z
DTEND:20250116T210000Z
LOCATION:
SUMMARY:Gitarrenkurs für Fortgeschrittene
DESCRIPTION:Gitarrenkurs für Fortgeschrittene\nhttps://hafenstrasse-meisse
 n.de/events/gitarrenkurs-fuer-fortgeschrittene-40/
URL:https://hafenstrasse-meissen.de/events/gitarrenkurs-fuer-fortgeschrittene-40/
END:VEVENT
END:VCALENDAR