BEGIN:VCALENDAR
VERSION:2.0
PRODID:-//eventon.com NONSGML v1.0//EN
CALSCALE:GREGORIAN
METHOD:PUBLISH
BEGIN:VEVENT
UID:69e9c6e4f2771
DTSTAMP:20260423T071444Z
DTSTART:20250109T180000Z
DTEND:20250109T210000Z
LOCATION:
SUMMARY:Gitarrenkurs für Fortgeschrittene
DESCRIPTION:Gitarrenkurs für Fortgeschrittene\nhttps://hafenstrasse-meisse
 n.de/events/gitarrenkurs-fuer-fortgeschrittene-45/
URL:https://hafenstrasse-meissen.de/events/gitarrenkurs-fuer-fortgeschrittene-45/
END:VEVENT
END:VCALENDAR