BEGIN:VCALENDAR
VERSION:2.0
PRODID:-//eventon.com NONSGML v1.0//EN
CALSCALE:GREGORIAN
METHOD:PUBLISH
BEGIN:VEVENT
UID:69ea0cc564e49
DTSTAMP:20260423T121253Z
DTSTART:20241107T160000Z
DTEND:20241107T170000Z
LOCATION:
SUMMARY:Yoga für Senioren
DESCRIPTION:Aller 14 Tage ist die Yogagruppe für Senioren bei uns in den K
 ursräumen. Entspannung und WohlbefindenMöchten Sie Ihre Flexibilität&nbs
 p;verbessern\, &nbsp;Stress abbauen und gleichzeitig neue Freundschaften sc
 hließen? Dann ist unser Yoga für Sie genau das Richtige!Die Übungen sind
  auf die Bedürfnisse von Senioren abgestimmt und Sie Lernen wie Sie durch 
 gezielte Atemtechniken[..]\nhttps://hafenstrasse-meissen.de/events/yoga-fue
 r-senioren-2/
URL:https://hafenstrasse-meissen.de/events/yoga-fuer-senioren-2/
END:VEVENT
END:VCALENDAR