BEGIN:VCALENDAR
VERSION:2.0
PRODID:-//eventon.com NONSGML v1.0//EN
CALSCALE:GREGORIAN
METHOD:PUBLISH
BEGIN:VEVENT
UID:69ea6e83f0b03
DTSTAMP:20260423T190955Z
DTSTART:20241129T160000Z
DTEND:20241129T225000Z
LOCATION:
SUMMARY:Weihnachtsfeier des Sächsischer Winzerchor Spaargebirge e.V. Meißen\,  im Saal des "Hafenstraße" e.V.
DESCRIPTION:Geschlossene Veranstaltung\nhttps://hafenstrasse-meissen.de/eve
 nts/weihnachtsfeier-in-saal-des-saechsischer-winzerchor-spaargebirge-e-v-me
 issen/
URL:https://hafenstrasse-meissen.de/events/weihnachtsfeier-in-saal-des-saechsischer-winzerchor-spaargebirge-e-v-meissen/
END:VEVENT
END:VCALENDAR