BEGIN:VCALENDAR
VERSION:2.0
PRODID:-//eventon.com NONSGML v1.0//EN
CALSCALE:GREGORIAN
METHOD:PUBLISH
BEGIN:VEVENT
UID:69e86c9f63b1b
DTSTAMP:20260422T063719Z
DTSTART:20241121T170000Z
DTEND:20241121T225000Z
LOCATION:
SUMMARY:Probe des „blaswerk-meissen“ e.V.
DESCRIPTION:ab 18:00 Uhr\nhttps://hafenstrasse-meissen.de/events/probe-des-
 blaswerk-meissen-e-v-copy-4/
URL:https://hafenstrasse-meissen.de/events/probe-des-blaswerk-meissen-e-v-copy-4/
END:VEVENT
END:VCALENDAR