BEGIN:VCALENDAR
VERSION:2.0
PRODID:-//eventon.com NONSGML v1.0//EN
CALSCALE:GREGORIAN
METHOD:PUBLISH
BEGIN:VEVENT
UID:69eab51e76858
DTSTAMP:20260424T001110Z
DTSTART:20241025T180000Z
DTEND:20241024T230000Z
LOCATION:
SUMMARY:Musikalischer Stammtisch
DESCRIPTION:Musikalischer Stammtisch des „Hafenstraße“e.V. Die offene 
 Bühne für Jung und Alt! Du suchst Gleichgesinnte\,  welche handgemachte L
 ive-Musik lieben?Du möchtest selbst mal vor Publikum stehen\,  eigene Komp
 ositionen darbieten\,  bekannte Songs spielen und singen? Oder hast Lust ei
 nfach mal mit anderen zu jammen? Kein Problem\,  alle sind herzlicheingelad
 en zur Musikalischen Vielfalt auf[..]\nhttps://hafenstrasse-meissen.de/even
 ts/musikalischer-stammtisch-copy-3/
URL:https://hafenstrasse-meissen.de/events/musikalischer-stammtisch-copy-3/
END:VEVENT
END:VCALENDAR