BEGIN:VCALENDAR
VERSION:2.0
PRODID:-//eventon.com NONSGML v1.0//EN
CALSCALE:GREGORIAN
METHOD:PUBLISH
BEGIN:VEVENT
UID:69e9c6a549649
DTSTAMP:20260423T071341Z
DTSTART:20240903T163000Z
DTEND:20240903T190000Z
LOCATION:
SUMMARY:Probe - Sächsischer Winzerchor Spaargebirge e.V. Meißen
DESCRIPTION:ab 18:30 Uhr\nhttps://hafenstrasse-meissen.de/events/probe-saec
 hsischer-winzerchor-spaargebirge-e-v-meissen-11/
URL:https://hafenstrasse-meissen.de/events/probe-saechsischer-winzerchor-spaargebirge-e-v-meissen-11/
END:VEVENT
END:VCALENDAR