BEGIN:VCALENDAR
VERSION:2.0
PRODID:-//eventon.com NONSGML v1.0//EN
CALSCALE:GREGORIAN
METHOD:PUBLISH
BEGIN:VEVENT
UID:69e87aaec14d9
DTSTAMP:20260422T073718Z
DTSTART:20240815T130000Z
DTEND:20240815T215000Z
LOCATION:
SUMMARY:Bandprobe Nachwuchsband
DESCRIPTION:Bandprobe Nachwuchsband\nhttps://hafenstrasse-meissen.de/events
 /bandprobe-nachwuchsband-16/
URL:https://hafenstrasse-meissen.de/events/bandprobe-nachwuchsband-16/
END:VEVENT
END:VCALENDAR