BEGIN:VCALENDAR
VERSION:2.0
PRODID:-//eventon.com NONSGML v1.0//EN
CALSCALE:GREGORIAN
METHOD:PUBLISH
BEGIN:VEVENT
UID:69e5ad9a4d8f7
DTSTAMP:20260420T043746Z
DTSTART:20240813T163000Z
DTEND:20240813T190000Z
LOCATION:
SUMMARY:Probe - Sächsischer Winzerchor Spaargebirge e.V. Meißen
DESCRIPTION:ab 18:30 Uhr\nhttps://hafenstrasse-meissen.de/events/probe-saec
 hsischer-winzerchor-spaargebirge-e-v-meissen-8/
URL:https://hafenstrasse-meissen.de/events/probe-saechsischer-winzerchor-spaargebirge-e-v-meissen-8/
END:VEVENT
END:VCALENDAR