BEGIN:VCALENDAR
VERSION:2.0
PRODID:-//eventon.com NONSGML v1.0//EN
CALSCALE:GREGORIAN
METHOD:PUBLISH
BEGIN:VEVENT
UID:69eaa9ae0cdec
DTSTAMP:20260423T232222Z
DTSTART:20240523T143000Z
DTEND:20240523T215000Z
LOCATION:
SUMMARY:Gitarrenkurs für Anfänger
DESCRIPTION:Gitarrenkurs für Anfänger\nhttps://hafenstrasse-meissen.de/ev
 ents/gitarrenkurs-fuer-anfaenger-5/
URL:https://hafenstrasse-meissen.de/events/gitarrenkurs-fuer-anfaenger-5/
END:VEVENT
END:VCALENDAR