BEGIN:VCALENDAR
VERSION:2.0
PRODID:-//eventon.com NONSGML v1.0//EN
CALSCALE:GREGORIAN
METHOD:PUBLISH
BEGIN:VEVENT
UID:69e5c513af359
DTSTAMP:20260420T061755Z
DTSTART:20240110T180000Z
DTEND:20240110T210000Z
LOCATION:
SUMMARY:Musikalische Runde
DESCRIPTION:An alle Freunde von handgemachter Musik und Songs.In dieser Run
 de kann Jeder mit seinen Fähigkeiten – ob Anfänger oder Fortgeschritten
 er – etwas zum Besten geben\,  gern auch gemeinsam.Mitzubringen sind pers
 önliches Equipment und Instrumente sowie\,  je nach Laune\,  kleine kulina
 rische Naschereien für alle.Eintritt: Frei\nhttps://hafenstrasse-meissen.d
 e/events/musikalische-runde-10/
URL:https://hafenstrasse-meissen.de/events/musikalische-runde-10/
END:VEVENT
END:VCALENDAR