BEGIN:VCALENDAR
VERSION:2.0
PRODID:-//eventon.com NONSGML v1.0//EN
CALSCALE:GREGORIAN
METHOD:PUBLISH
BEGIN:VEVENT
UID:69e87fb5b6fa8
DTSTAMP:20260422T075845Z
DTSTART:20240123T173000Z
DTEND:20240123T200000Z
LOCATION:
SUMMARY:Probe des Winzerchor  „Spaargebirge“ e.V. Meißen
DESCRIPTION:ab 18:30 Uhr\nhttps://hafenstrasse-meissen.de/events/probe-des-
 winzerchor-spaargebirge-e-v-meissen-5/
URL:https://hafenstrasse-meissen.de/events/probe-des-winzerchor-spaargebirge-e-v-meissen-5/
END:VEVENT
END:VCALENDAR