BEGIN:VCALENDAR
VERSION:2.0
PRODID:-//eventon.com NONSGML v1.0//EN
CALSCALE:GREGORIAN
METHOD:PUBLISH
BEGIN:VEVENT
UID:69e6cbfe2646d
DTSTAMP:20260421T005942Z
DTSTART:20190306T070000Z
DTEND:20190306T160000Z
LOCATION:HAFENSTRAßE e.V. Hafenstraße 28\,  01662 Meißen
SUMMARY:Sportfest im Heiligen Grund
DESCRIPTION:Wir sind zu Gast beim Sportfest im Heiligen Grund Meißen und b
 ieten ein breites Angebot an Basteleien an.Auch zum Spielen mit unseren XXL
  – Spielen seid Ihr gerne eingeladen.\nhttps://hafenstrasse-meissen.de/ev
 ents/sportfest-im-heiligen-grund/
URL:https://hafenstrasse-meissen.de/events/sportfest-im-heiligen-grund/
END:VEVENT
END:VCALENDAR