BEGIN:VCALENDAR
VERSION:2.0
PRODID:-//eventon.com NONSGML v1.0//EN
CALSCALE:GREGORIAN
METHOD:PUBLISH
BEGIN:VEVENT
UID:69e8632401049
DTSTAMP:20260422T055652Z
DTSTART:20260321T133000Z
DTEND:20260321T225000Z
LOCATION:
SUMMARY:*WOW* Die Bühne für junge Kreative
DESCRIPTION:WOW – Die Bühne für junge Kreative: Aufruf zur Teilnahme 20
 26 Im Jahr 2026 feiert das&nbsp;Veranstaltungsformat „WOW – Die Bühne 
 für junge Kreative“&nbsp;sein fünfjähriges Bestehen. Unter der Schirmh
 errschaft von Susann Rüthrich\,  Kinder- und Jugendbeauftragte des Freista
 ates Sachsen\,  findet die Jubiläumsausgabe&nbsp;am 21. März 2026 in der 
 Hafenstraße&nbsp;statt. Junge Kreative sind herzlich[..]\nhttps://hafenstr
 asse-meissen.de/events/wow-die-buehne-fuer-junge-kreative-copy/
URL:https://hafenstrasse-meissen.de/events/wow-die-buehne-fuer-junge-kreative-copy/
END:VEVENT
END:VCALENDAR