BEGIN:VCALENDAR
VERSION:2.0
PRODID:-//eventon.com NONSGML v1.0//EN
CALSCALE:GREGORIAN
METHOD:PUBLISH
BEGIN:VEVENT
UID:69ebad8bc744d
DTSTAMP:20260424T175107Z
DTSTART:20250603T130000Z
DTEND:20250603T215000Z
LOCATION:
SUMMARY:Bandprobe Nachwuchsband
DESCRIPTION:Bandprobe Nachwuchsband\nhttps://hafenstrasse-meissen.de/events
 /bandprobe-nachwuchsband-48/
URL:https://hafenstrasse-meissen.de/events/bandprobe-nachwuchsband-48/
END:VEVENT
END:VCALENDAR