BEGIN:VCALENDAR
VERSION:2.0
PRODID:-//eventon.com NONSGML v1.0//EN
CALSCALE:GREGORIAN
METHOD:PUBLISH
BEGIN:VEVENT
UID:69ec28d35c5ea
DTSTAMP:20260425T023707Z
DTSTART:20250410T140000Z
DTEND:20250410T163000Z
LOCATION:
SUMMARY:Gitarrenkurs für Anfänger
DESCRIPTION:Gitarrenkurs für Anfänger\nhttps://hafenstrasse-meissen.de/ev
 ents/gitarrenkurs-fuer-anfaenger-34/
URL:https://hafenstrasse-meissen.de/events/gitarrenkurs-fuer-anfaenger-34/
END:VEVENT
END:VCALENDAR