BEGIN:VCALENDAR
VERSION:2.0
PRODID:-//eventon.com NONSGML v1.0//EN
CALSCALE:GREGORIAN
METHOD:PUBLISH
BEGIN:VEVENT
UID:69e9de1c92754
DTSTAMP:20260423T085348Z
DTSTART:20241024T150000Z
DTEND:20241024T160000Z
LOCATION:
SUMMARY:Yoga für Senioren
DESCRIPTION:Aller 14 Tage ist die Yogagruppe für Senioren bei uns in den K
 ursräumen. Entspannung und WohlbefindenMöchten Sie Ihre Flexibilität ve
 rbessern\,  Stress abbauen und gleichzeitig neue Freundschaften schließen
 ? Dann ist unser Yoga für Sie genau das Richtige!Die Übungen sind auf die
  Bedürfnisse von Senioren abgestimmt und Sie Lernen wie Sie durch gezielte
  Atemtechniken[..]\nhttps://hafenstrasse-meissen.de/events/yoga-fuer-senior
 en/
URL:https://hafenstrasse-meissen.de/events/yoga-fuer-senioren/
END:VEVENT
END:VCALENDAR