BEGIN:VCALENDAR
VERSION:2.0
PRODID:-//eventon.com NONSGML v1.0//EN
CALSCALE:GREGORIAN
METHOD:PUBLISH
BEGIN:VEVENT
UID:69ea786bcbaae
DTSTAMP:20260423T195211Z
DTSTART:20241107T150000Z
DTEND:20241107T173000Z
LOCATION:
SUMMARY:Gitarrenkurs für Anfänger
DESCRIPTION:Gitarrenkurs für Anfänger\nhttps://hafenstrasse-meissen.de/ev
 ents/gitarrenkurs-fuer-anfaenger-16/
URL:https://hafenstrasse-meissen.de/events/gitarrenkurs-fuer-anfaenger-16/
END:VEVENT
END:VCALENDAR