BEGIN:VCALENDAR
VERSION:2.0
PRODID:-//eventon.com NONSGML v1.0//EN
CALSCALE:GREGORIAN
METHOD:PUBLISH
BEGIN:VEVENT
UID:69ead1d59dc37
DTSTAMP:20260424T021341Z
DTSTART:20240228T160000Z
DTEND:20240228T190000Z
LOCATION:
SUMMARY:AWO Meißen Jahreshauptversammlung
DESCRIPTION:AWO Meißen Jahreshauptversammlung\nhttps://hafenstrasse-meisse
 n.de/events/awo-meissen-jahreshauptversammlung/
URL:https://hafenstrasse-meissen.de/events/awo-meissen-jahreshauptversammlung/
END:VEVENT
END:VCALENDAR